BEGIN:VCALENDAR
VERSION:2.0
PRODID:-//Green Mountain Spinnery - ECPv6.15.20//NONSGML v1.0//EN
CALSCALE:GREGORIAN
METHOD:PUBLISH
X-ORIGINAL-URL:https://www.spinnery.com
X-WR-CALDESC:Events for Green Mountain Spinnery
REFRESH-INTERVAL;VALUE=DURATION:PT1H
X-Robots-Tag:noindex
X-PUBLISHED-TTL:PT1H
BEGIN:VTIMEZONE
TZID:America/New_York
BEGIN:DAYLIGHT
TZOFFSETFROM:-0500
TZOFFSETTO:-0400
TZNAME:EDT
DTSTART:20210314T070000
END:DAYLIGHT
BEGIN:STANDARD
TZOFFSETFROM:-0400
TZOFFSETTO:-0500
TZNAME:EST
DTSTART:20211107T060000
END:STANDARD
BEGIN:DAYLIGHT
TZOFFSETFROM:-0500
TZOFFSETTO:-0400
TZNAME:EDT
DTSTART:20220313T070000
END:DAYLIGHT
BEGIN:STANDARD
TZOFFSETFROM:-0400
TZOFFSETTO:-0500
TZNAME:EST
DTSTART:20221106T060000
END:STANDARD
BEGIN:DAYLIGHT
TZOFFSETFROM:-0500
TZOFFSETTO:-0400
TZNAME:EDT
DTSTART:20230312T070000
END:DAYLIGHT
BEGIN:STANDARD
TZOFFSETFROM:-0400
TZOFFSETTO:-0500
TZNAME:EST
DTSTART:20231105T060000
END:STANDARD
END:VTIMEZONE
BEGIN:VEVENT
DTSTART;VALUE=DATE:20221021
DTEND;VALUE=DATE:20221024
DTSTAMP:20260421T121727
CREATED:20210628T161342Z
LAST-MODIFIED:20220524T182237Z
UID:17917-1666310400-1666569599@www.spinnery.com
SUMMARY:Southeastern Animal Fiber Fair 2022
DESCRIPTION:Friday\, October 21- (9 am – 6 pm)\nSaturday\, October 22 – (9 am – 6 pm)\nSunday\, October 23- (9 am – 4 pm) \nThe event is located at the WNC Agricultural Center\, in Fletcher\, NC\, across Hwy 280 from the Asheville Regional Airport. (Exit 40 off I-26). \nAdmission will be $5/person per day. $10 pass for 3 days. Youth under 13 yrs. old will be free.
URL:https://www.spinnery.com/event/southeastern-animal-fiber-fair-2022/
LOCATION:WNC Agricultural Center\, 1301 FANNING BRIDGE RD.\, Fletcher\, NC\, 28732\, United States
CATEGORIES:Marketplace
ATTACH;FMTTYPE=image/jpeg:https://www.spinnery.com/wp-content/uploads/2018/03/saff.jpg
END:VEVENT
END:VCALENDAR