BEGIN:VCALENDAR
VERSION:2.0
PRODID:-//Green Mountain Spinnery - ECPv6.15.20//NONSGML v1.0//EN
CALSCALE:GREGORIAN
METHOD:PUBLISH
X-WR-CALNAME:Green Mountain Spinnery
X-ORIGINAL-URL:https://www.spinnery.com
X-WR-CALDESC:Events for Green Mountain Spinnery
REFRESH-INTERVAL;VALUE=DURATION:PT1H
X-Robots-Tag:noindex
X-PUBLISHED-TTL:PT1H
BEGIN:VTIMEZONE
TZID:America/New_York
BEGIN:DAYLIGHT
TZOFFSETFROM:-0500
TZOFFSETTO:-0400
TZNAME:EDT
DTSTART:20190310T070000
END:DAYLIGHT
BEGIN:STANDARD
TZOFFSETFROM:-0400
TZOFFSETTO:-0500
TZNAME:EST
DTSTART:20191103T060000
END:STANDARD
BEGIN:DAYLIGHT
TZOFFSETFROM:-0500
TZOFFSETTO:-0400
TZNAME:EDT
DTSTART:20200308T070000
END:DAYLIGHT
BEGIN:STANDARD
TZOFFSETFROM:-0400
TZOFFSETTO:-0500
TZNAME:EST
DTSTART:20201101T060000
END:STANDARD
BEGIN:DAYLIGHT
TZOFFSETFROM:-0500
TZOFFSETTO:-0400
TZNAME:EDT
DTSTART:20210314T070000
END:DAYLIGHT
BEGIN:STANDARD
TZOFFSETFROM:-0400
TZOFFSETTO:-0500
TZNAME:EST
DTSTART:20211107T060000
END:STANDARD
END:VTIMEZONE
BEGIN:VEVENT
DTSTART;VALUE=DATE:20200403
DTEND;VALUE=DATE:20200406
DTSTAMP:20260425T001522
CREATED:20200104T115023Z
LAST-MODIFIED:20200316T143759Z
UID:11081-1585872000-1586131199@www.spinnery.com
SUMMARY:2020 Spring Knitters' Weekend Retreat
DESCRIPTION:In an effort to keep our friends and staff safe we are cancelling this Spring’s Knitters’ Weekend gathering.  We hope to arrange a virtual gathering that will allow us to connect while keeping a safe social distance that will help prevent the spread of Covid-19.  Please check our Instagram Feed for updates!
URL:https://www.spinnery.com/event/2019-fall-knitters-weekend-retreat/
LOCATION:Hampton Inn Brattleboro\, 1378 Putney Rd\, Brattleboro\, VT\, 05301\, United States
CATEGORIES:Workshops
ATTACH;FMTTYPE=image/jpeg:https://www.spinnery.com/wp-content/uploads/2020/01/Forest-3.jpg
END:VEVENT
END:VCALENDAR